BEGIN:VCALENDAR
VERSION:2.0
PRODID:-//Tarot LIVE - ECPv6.15.20//NONSGML v1.0//EN
CALSCALE:GREGORIAN
METHOD:PUBLISH
X-ORIGINAL-URL:https://tarotlive.de
X-WR-CALDESC:Veranstaltungen für Tarot LIVE
REFRESH-INTERVAL;VALUE=DURATION:PT1H
X-Robots-Tag:noindex
X-PUBLISHED-TTL:PT1H
BEGIN:VTIMEZONE
TZID:UTC
BEGIN:STANDARD
TZOFFSETFROM:+0000
TZOFFSETTO:+0000
TZNAME:UTC
DTSTART:20240101T000000
END:STANDARD
END:VTIMEZONE
BEGIN:VEVENT
DTSTART;TZID=UTC:20260115T190000
DTEND;TZID=UTC:20260115T200000
DTSTAMP:20260420T101056
CREATED:20251209T191905Z
LAST-MODIFIED:20251209T192132Z
UID:802-1768503600-1768507200@tarotlive.de
SUMMARY:Colin Sperk
DESCRIPTION:Im Jahr 2022 habe ich mich dazu entschlossen\, professionell als spiritueller Lebensberater und Kartenleger zu arbeiten. Die Spiritualität begleitet mich schon lange in meinem Leben. Mit neun Jahren spürte ich eine besondere Anziehung zum Kartenlegen. Die Karten sprachen zu mir. Und meist nach kurzer Zeit trafen meine Prophezeiungen ein\, die ich im Kartenbild sehen konnte. Irgendwann wollte ich nicht mehr nur für meine Freunde und Familie die Karten legen\, sondern für alle Menschen da draußen. Wünschst du dir eine klare\, lösungsorientierte und herzliche Beratung? Ich bin für dich da! In meiner Beratung zeige ich dir Wege\, die dich zum Glück führen. Gemeinsam schauen wir uns deine Vergangenheit\, Gegenwart und Zukunft genau an und entdecken\, wie sich Themen entwickeln werden. \nMelde dich sehr gerne bei mir! \nExterne Links:\nBeratung mit Colin Sperk\nwww.colin-sperk.de
URL:https://tarotlive.de/programm/colin-sperk-24/
ATTACH;FMTTYPE=image/jpeg:https://tarotlive.de/wp-content/uploads/2025/03/d0a3c69e9e6f9818b08f48ad73937eda-avatar-list-11.jpg
END:VEVENT
BEGIN:VEVENT
DTSTART;TZID=UTC:20251229T190000
DTEND;TZID=UTC:20251229T200000
DTSTAMP:20260420T101056
CREATED:20251126T192258Z
LAST-MODIFIED:20251209T190848Z
UID:778-1767034800-1767038400@tarotlive.de
SUMMARY:Colin Sperk
DESCRIPTION:Im Jahr 2022 habe ich mich dazu entschlossen\, professionell als spiritueller Lebensberater und Kartenleger zu arbeiten. Die Spiritualität begleitet mich schon lange in meinem Leben. Mit neun Jahren spürte ich eine besondere Anziehung zum Kartenlegen. Die Karten sprachen zu mir. Und meist nach kurzer Zeit trafen meine Prophezeiungen ein\, die ich im Kartenbild sehen konnte. Irgendwann wollte ich nicht mehr nur für meine Freunde und Familie die Karten legen\, sondern für alle Menschen da draußen. Wünschst du dir eine klare\, lösungsorientierte und herzliche Beratung? Ich bin für dich da! In meiner Beratung zeige ich dir Wege\, die dich zum Glück führen. Gemeinsam schauen wir uns deine Vergangenheit\, Gegenwart und Zukunft genau an und entdecken\, wie sich Themen entwickeln werden. \nMelde dich sehr gerne bei mir! \nExterne Links:\nBeratung mit Colin Sperk\nwww.colin-sperk.de
URL:https://tarotlive.de/programm/colin-sperk-22/
LOCATION:Colin Sperk
ATTACH;FMTTYPE=image/jpeg:https://tarotlive.de/wp-content/uploads/2025/03/d0a3c69e9e6f9818b08f48ad73937eda-avatar-list-11.jpg
END:VEVENT
BEGIN:VEVENT
DTSTART;TZID=UTC:20251218T190000
DTEND;TZID=UTC:20251218T200000
DTSTAMP:20260420T101056
CREATED:20251126T192214Z
LAST-MODIFIED:20251126T192214Z
UID:775-1766084400-1766088000@tarotlive.de
SUMMARY:Colin Sperk
DESCRIPTION:Im Jahr 2022 habe ich mich dazu entschlossen\, professionell als spiritueller Lebensberater und Kartenleger zu arbeiten. Die Spiritualität begleitet mich schon lange in meinem Leben. Mit neun Jahren spürte ich eine besondere Anziehung zum Kartenlegen. Die Karten sprachen zu mir. Und meist nach kurzer Zeit trafen meine Prophezeiungen ein\, die ich im Kartenbild sehen konnte. Irgendwann wollte ich nicht mehr nur für meine Freunde und Familie die Karten legen\, sondern für alle Menschen da draußen. Wünschst du dir eine klare\, lösungsorientierte und herzliche Beratung? Ich bin für dich da! In meiner Beratung zeige ich dir Wege\, die dich zum Glück führen. Gemeinsam schauen wir uns deine Vergangenheit\, Gegenwart und Zukunft genau an und entdecken\, wie sich Themen entwickeln werden. \nMelde dich sehr gerne bei mir! \nExterne Links:\nBeratung mit Colin Sperk\nwww.colin-sperk.de
URL:https://tarotlive.de/programm/colin-sperk-21/
LOCATION:Colin Sperk
ATTACH;FMTTYPE=image/jpeg:https://tarotlive.de/wp-content/uploads/2025/03/d0a3c69e9e6f9818b08f48ad73937eda-avatar-list-11.jpg
END:VEVENT
BEGIN:VEVENT
DTSTART;TZID=UTC:20251211T190000
DTEND;TZID=UTC:20251211T200000
DTSTAMP:20260420T101056
CREATED:20251126T192127Z
LAST-MODIFIED:20251126T192127Z
UID:773-1765479600-1765483200@tarotlive.de
SUMMARY:Colin Sperk
DESCRIPTION:Im Jahr 2022 habe ich mich dazu entschlossen\, professionell als spiritueller Lebensberater und Kartenleger zu arbeiten. Die Spiritualität begleitet mich schon lange in meinem Leben. Mit neun Jahren spürte ich eine besondere Anziehung zum Kartenlegen. Die Karten sprachen zu mir. Und meist nach kurzer Zeit trafen meine Prophezeiungen ein\, die ich im Kartenbild sehen konnte. Irgendwann wollte ich nicht mehr nur für meine Freunde und Familie die Karten legen\, sondern für alle Menschen da draußen. Wünschst du dir eine klare\, lösungsorientierte und herzliche Beratung? Ich bin für dich da! In meiner Beratung zeige ich dir Wege\, die dich zum Glück führen. Gemeinsam schauen wir uns deine Vergangenheit\, Gegenwart und Zukunft genau an und entdecken\, wie sich Themen entwickeln werden. \nMelde dich sehr gerne bei mir! \nExterne Links:\nBeratung mit Colin Sperk\nwww.colin-sperk.de
URL:https://tarotlive.de/programm/colin-sperk-20/
LOCATION:Colin Sperk
ATTACH;FMTTYPE=image/jpeg:https://tarotlive.de/wp-content/uploads/2025/03/d0a3c69e9e6f9818b08f48ad73937eda-avatar-list-11.jpg
END:VEVENT
BEGIN:VEVENT
DTSTART;TZID=UTC:20251127T190000
DTEND;TZID=UTC:20251127T200000
DTSTAMP:20260420T101056
CREATED:20251104T171528Z
LAST-MODIFIED:20251104T171528Z
UID:747-1764270000-1764273600@tarotlive.de
SUMMARY:Colin Sperk
DESCRIPTION:Im Jahr 2022 habe ich mich dazu entschlossen\, professionell als spiritueller Lebensberater und Kartenleger zu arbeiten. Die Spiritualität begleitet mich schon lange in meinem Leben. Mit neun Jahren spürte ich eine besondere Anziehung zum Kartenlegen. Die Karten sprachen zu mir. Und meist nach kurzer Zeit trafen meine Prophezeiungen ein\, die ich im Kartenbild sehen konnte. Irgendwann wollte ich nicht mehr nur für meine Freunde und Familie die Karten legen\, sondern für alle Menschen da draußen. Wünschst du dir eine klare\, lösungsorientierte und herzliche Beratung? Ich bin für dich da! In meiner Beratung zeige ich dir Wege\, die dich zum Glück führen. Gemeinsam schauen wir uns deine Vergangenheit\, Gegenwart und Zukunft genau an und entdecken\, wie sich Themen entwickeln werden. \nMelde dich sehr gerne bei mir! \nExterne Links:\nBeratung mit Colin Sperk
URL:https://tarotlive.de/programm/colin-sperk-19/
ATTACH;FMTTYPE=image/jpeg:https://tarotlive.de/wp-content/uploads/2025/03/d0a3c69e9e6f9818b08f48ad73937eda-avatar-list-11.jpg
END:VEVENT
BEGIN:VEVENT
DTSTART;TZID=UTC:20251120T190000
DTEND;TZID=UTC:20251120T200000
DTSTAMP:20260420T101056
CREATED:20251104T171237Z
LAST-MODIFIED:20251104T171237Z
UID:745-1763665200-1763668800@tarotlive.de
SUMMARY:Colin Sperk
DESCRIPTION:Im Jahr 2022 habe ich mich dazu entschlossen\, professionell als spiritueller Lebensberater und Kartenleger zu arbeiten. Die Spiritualität begleitet mich schon lange in meinem Leben. Mit neun Jahren spürte ich eine besondere Anziehung zum Kartenlegen. Die Karten sprachen zu mir. Und meist nach kurzer Zeit trafen meine Prophezeiungen ein\, die ich im Kartenbild sehen konnte. Irgendwann wollte ich nicht mehr nur für meine Freunde und Familie die Karten legen\, sondern für alle Menschen da draußen. Wünschst du dir eine klare\, lösungsorientierte und herzliche Beratung? Ich bin für dich da! In meiner Beratung zeige ich dir Wege\, die dich zum Glück führen. Gemeinsam schauen wir uns deine Vergangenheit\, Gegenwart und Zukunft genau an und entdecken\, wie sich Themen entwickeln werden. \nMelde dich sehr gerne bei mir! \nExterne Links:\nBeratung mit Colin Sperk
URL:https://tarotlive.de/programm/colin-sperk-18/
ATTACH;FMTTYPE=image/jpeg:https://tarotlive.de/wp-content/uploads/2025/03/d0a3c69e9e6f9818b08f48ad73937eda-avatar-list-11.jpg
END:VEVENT
BEGIN:VEVENT
DTSTART;TZID=UTC:20251113T190000
DTEND;TZID=UTC:20251113T200000
DTSTAMP:20260420T101056
CREATED:20251104T171055Z
LAST-MODIFIED:20251104T171319Z
UID:742-1763060400-1763064000@tarotlive.de
SUMMARY:Colin Sperk
DESCRIPTION:Im Jahr 2022 habe ich mich dazu entschlossen\, professionell als spiritueller Lebensberater und Kartenleger zu arbeiten. Die Spiritualität begleitet mich schon lange in meinem Leben. Mit neun Jahren spürte ich eine besondere Anziehung zum Kartenlegen. Die Karten sprachen zu mir. Und meist nach kurzer Zeit trafen meine Prophezeiungen ein\, die ich im Kartenbild sehen konnte. Irgendwann wollte ich nicht mehr nur für meine Freunde und Familie die Karten legen\, sondern für alle Menschen da draußen. Wünschst du dir eine klare\, lösungsorientierte und herzliche Beratung? Ich bin für dich da! In meiner Beratung zeige ich dir Wege\, die dich zum Glück führen. Gemeinsam schauen wir uns deine Vergangenheit\, Gegenwart und Zukunft genau an und entdecken\, wie sich Themen entwickeln werden. \nMelde dich sehr gerne bei mir! \nExterne Links:\nBeratung mit Colin Sperk
URL:https://tarotlive.de/programm/colin-sperk-17/
ATTACH;FMTTYPE=image/jpeg:https://tarotlive.de/wp-content/uploads/2025/03/d0a3c69e9e6f9818b08f48ad73937eda-avatar-list-11.jpg
END:VEVENT
BEGIN:VEVENT
DTSTART;TZID=UTC:20251106T190000
DTEND;TZID=UTC:20251106T200000
DTSTAMP:20260420T101056
CREATED:20251024T193046Z
LAST-MODIFIED:20251024T193046Z
UID:721-1762455600-1762459200@tarotlive.de
SUMMARY:Colin Sperk
DESCRIPTION:Im Jahr 2022 habe ich mich dazu entschlossen\, professionell als spiritueller Lebensberater und Kartenleger zu arbeiten. Die Spiritualität begleitet mich schon lange in meinem Leben. Mit neun Jahren spürte ich eine besondere Anziehung zum Kartenlegen. Die Karten sprachen zu mir. Und meist nach kurzer Zeit trafen meine Prophezeiungen ein\, die ich im Kartenbild sehen konnte. Irgendwann wollte ich nicht mehr nur für meine Freunde und Familie die Karten legen\, sondern für alle Menschen da draußen. Wünschst du dir eine klare\, lösungsorientierte und herzliche Beratung? Ich bin für dich da! In meiner Beratung zeige ich dir Wege\, die dich zum Glück führen. Gemeinsam schauen wir uns deine Vergangenheit\, Gegenwart und Zukunft genau an und entdecken\, wie sich Themen entwickeln werden. \nMelde dich sehr gerne bei mir! \nExterne Links:\nBeratung mit Colin Sperk\nwww.colin-sperk.de
URL:https://tarotlive.de/programm/colin-sperk-16/
LOCATION:Colin Sperk
ATTACH;FMTTYPE=image/jpeg:https://tarotlive.de/wp-content/uploads/2025/03/d0a3c69e9e6f9818b08f48ad73937eda-avatar-list-11.jpg
END:VEVENT
BEGIN:VEVENT
DTSTART;TZID=UTC:20251023T190000
DTEND;TZID=UTC:20251023T200000
DTSTAMP:20260420T101056
CREATED:20250919T085701Z
LAST-MODIFIED:20250919T085701Z
UID:699-1761246000-1761249600@tarotlive.de
SUMMARY:Colin Sperk
DESCRIPTION:Im Jahr 2022 habe ich mich dazu entschlossen\, professionell als spiritueller Lebensberater und Kartenleger zu arbeiten. Die Spiritualität begleitet mich schon lange in meinem Leben. Mit neun Jahren spürte ich eine besondere Anziehung zum Kartenlegen. Die Karten sprachen zu mir. Und meist nach kurzer Zeit trafen meine Prophezeiungen ein\, die ich im Kartenbild sehen konnte. Irgendwann wollte ich nicht mehr nur für meine Freunde und Familie die Karten legen\, sondern für alle Menschen da draußen. Wünschst du dir eine klare\, lösungsorientierte und herzliche Beratung? Ich bin für dich da! In meiner Beratung zeige ich dir Wege\, die dich zum Glück führen. Gemeinsam schauen wir uns deine Vergangenheit\, Gegenwart und Zukunft genau an und entdecken\, wie sich Themen entwickeln werden. \nMelde dich sehr gerne bei mir! \nExterne Links:\nBeratung mit Colin Sperk\nwww.colin-sperk.de
URL:https://tarotlive.de/programm/colin-sperk-14/
LOCATION:Colin Sperk
ATTACH;FMTTYPE=image/jpeg:https://tarotlive.de/wp-content/uploads/2025/03/d0a3c69e9e6f9818b08f48ad73937eda-avatar-list-11.jpg
END:VEVENT
BEGIN:VEVENT
DTSTART;TZID=UTC:20251014T190000
DTEND;TZID=UTC:20251014T200000
DTSTAMP:20260420T101056
CREATED:20250917T090714Z
LAST-MODIFIED:20250917T090714Z
UID:667-1760468400-1760472000@tarotlive.de
SUMMARY:Colin Sperk
DESCRIPTION:Im Jahr 2022 habe ich mich dazu entschlossen\, professionell als spiritueller Lebensberater und Kartenleger zu arbeiten. Die Spiritualität begleitet mich schon lange in meinem Leben. Mit neun Jahren spürte ich eine besondere Anziehung zum Kartenlegen. Die Karten sprachen zu mir. Und meist nach kurzer Zeit trafen meine Prophezeiungen ein\, die ich im Kartenbild sehen konnte. Irgendwann wollte ich nicht mehr nur für meine Freunde und Familie die Karten legen\, sondern für alle Menschen da draußen. Wünschst du dir eine klare\, lösungsorientierte und herzliche Beratung? Ich bin für dich da! In meiner Beratung zeige ich dir Wege\, die dich zum Glück führen. Gemeinsam schauen wir uns deine Vergangenheit\, Gegenwart und Zukunft genau an und entdecken\, wie sich Themen entwickeln werden. \nMelde dich sehr gerne bei mir! \nExterne Links:\nBeratung mit Colin Sperk\nwww.colin-sperk.de
URL:https://tarotlive.de/programm/colin-sperk-13/
LOCATION:Colin Sperk
ATTACH;FMTTYPE=image/jpeg:https://tarotlive.de/wp-content/uploads/2025/03/d0a3c69e9e6f9818b08f48ad73937eda-avatar-list-11.jpg
END:VEVENT
BEGIN:VEVENT
DTSTART;TZID=UTC:20251007T190000
DTEND;TZID=UTC:20251007T200000
DTSTAMP:20260420T101056
CREATED:20251003T181000Z
LAST-MODIFIED:20251003T181000Z
UID:711-1759863600-1759867200@tarotlive.de
SUMMARY:Colin Sperk
DESCRIPTION:Im Jahr 2022 habe ich mich dazu entschlossen\, professionell als spiritueller Lebensberater und Kartenleger zu arbeiten. Die Spiritualität begleitet mich schon lange in meinem Leben. Mit neun Jahren spürte ich eine besondere Anziehung zum Kartenlegen. Die Karten sprachen zu mir. Und meist nach kurzer Zeit trafen meine Prophezeiungen ein\, die ich im Kartenbild sehen konnte. Irgendwann wollte ich nicht mehr nur für meine Freunde und Familie die Karten legen\, sondern für alle Menschen da draußen. Wünschst du dir eine klare\, lösungsorientierte und herzliche Beratung? Ich bin für dich da! In meiner Beratung zeige ich dir Wege\, die dich zum Glück führen. Gemeinsam schauen wir uns deine Vergangenheit\, Gegenwart und Zukunft genau an und entdecken\, wie sich Themen entwickeln werden. \nMelde dich sehr gerne bei mir! \nExterne Links:\nBeratung mit Colin Sperk\nwww.colin-sperk.de
URL:https://tarotlive.de/programm/colin-sperk-15/
LOCATION:Colin Sperk
ATTACH;FMTTYPE=image/jpeg:https://tarotlive.de/wp-content/uploads/2025/03/d0a3c69e9e6f9818b08f48ad73937eda-avatar-list-11.jpg
END:VEVENT
BEGIN:VEVENT
DTSTART;TZID=UTC:20251002T190000
DTEND;TZID=UTC:20251002T200000
DTSTAMP:20260420T101056
CREATED:20250917T090305Z
LAST-MODIFIED:20250917T090305Z
UID:655-1759431600-1759435200@tarotlive.de
SUMMARY:Colin Sperk
DESCRIPTION:Im Jahr 2022 habe ich mich dazu entschlossen\, professionell als spiritueller Lebensberater und Kartenleger zu arbeiten. Die Spiritualität begleitet mich schon lange in meinem Leben. Mit neun Jahren spürte ich eine besondere Anziehung zum Kartenlegen. Die Karten sprachen zu mir. Und meist nach kurzer Zeit trafen meine Prophezeiungen ein\, die ich im Kartenbild sehen konnte. Irgendwann wollte ich nicht mehr nur für meine Freunde und Familie die Karten legen\, sondern für alle Menschen da draußen. Wünschst du dir eine klare\, lösungsorientierte und herzliche Beratung? Ich bin für dich da! In meiner Beratung zeige ich dir Wege\, die dich zum Glück führen. Gemeinsam schauen wir uns deine Vergangenheit\, Gegenwart und Zukunft genau an und entdecken\, wie sich Themen entwickeln werden. \nMelde dich sehr gerne bei mir! \nExterne Links:\nBeratung mit Colin Sperk\nwww.colin-sperk.de
URL:https://tarotlive.de/programm/colin-sperk-12/
LOCATION:Colin Sperk
ATTACH;FMTTYPE=image/jpeg:https://tarotlive.de/wp-content/uploads/2025/03/d0a3c69e9e6f9818b08f48ad73937eda-avatar-list-11.jpg
END:VEVENT
BEGIN:VEVENT
DTSTART;TZID=UTC:20250911T190000
DTEND;TZID=UTC:20250911T200000
DTSTAMP:20260420T101056
CREATED:20250820T115031Z
LAST-MODIFIED:20250820T115031Z
UID:643-1757617200-1757620800@tarotlive.de
SUMMARY:Colin Sperk
DESCRIPTION:Im Jahr 2022 habe ich mich dazu entschlossen\, professionell als spiritueller Lebensberater und Kartenleger zu arbeiten. Die Spiritualität begleitet mich schon lange in meinem Leben. Mit neun Jahren spürte ich eine besondere Anziehung zum Kartenlegen. Die Karten sprachen zu mir. Und meist nach kurzer Zeit trafen meine Prophezeiungen ein\, die ich im Kartenbild sehen konnte. Irgendwann wollte ich nicht mehr nur für meine Freunde und Familie die Karten legen\, sondern für alle Menschen da draußen. Wünschst du dir eine klare\, lösungsorientierte und herzliche Beratung? Ich bin für dich da! In meiner Beratung zeige ich dir Wege\, die dich zum Glück führen. Gemeinsam schauen wir uns deine Vergangenheit\, Gegenwart und Zukunft genau an und entdecken\, wie sich Themen entwickeln werden. \nMelde dich sehr gerne bei mir! \nExterne Links:\nBeratung mit Colin Sperk\nwww.colin-sperk.de
URL:https://tarotlive.de/programm/colin-sperk-10/
LOCATION:Colin Sperk
ATTACH;FMTTYPE=image/jpeg:https://tarotlive.de/wp-content/uploads/2025/03/d0a3c69e9e6f9818b08f48ad73937eda-avatar-list-11.jpg
END:VEVENT
BEGIN:VEVENT
DTSTART;TZID=UTC:20250909T190000
DTEND;TZID=UTC:20250909T200000
DTSTAMP:20260420T101056
CREATED:20250820T114943Z
LAST-MODIFIED:20250820T114943Z
UID:640-1757444400-1757448000@tarotlive.de
SUMMARY:Colin Sperk
DESCRIPTION:Im Jahr 2022 habe ich mich dazu entschlossen\, professionell als spiritueller Lebensberater und Kartenleger zu arbeiten. Die Spiritualität begleitet mich schon lange in meinem Leben. Mit neun Jahren spürte ich eine besondere Anziehung zum Kartenlegen. Die Karten sprachen zu mir. Und meist nach kurzer Zeit trafen meine Prophezeiungen ein\, die ich im Kartenbild sehen konnte. Irgendwann wollte ich nicht mehr nur für meine Freunde und Familie die Karten legen\, sondern für alle Menschen da draußen. Wünschst du dir eine klare\, lösungsorientierte und herzliche Beratung? Ich bin für dich da! In meiner Beratung zeige ich dir Wege\, die dich zum Glück führen. Gemeinsam schauen wir uns deine Vergangenheit\, Gegenwart und Zukunft genau an und entdecken\, wie sich Themen entwickeln werden. \nMelde dich sehr gerne bei mir! \nExterne Links:\nBeratung mit Colin Sperk\nwww.colin-sperk.de
URL:https://tarotlive.de/programm/colin-sperk-9/
LOCATION:Colin Sperk
ATTACH;FMTTYPE=image/jpeg:https://tarotlive.de/wp-content/uploads/2025/03/d0a3c69e9e6f9818b08f48ad73937eda-avatar-list-11.jpg
END:VEVENT
BEGIN:VEVENT
DTSTART;TZID=UTC:20250826T190000
DTEND;TZID=UTC:20250826T200000
DTSTAMP:20260420T101056
CREATED:20250713T094412Z
LAST-MODIFIED:20250825T111106Z
UID:572-1756234800-1756238400@tarotlive.de
SUMMARY:Colin Sperk
DESCRIPTION:Im Jahr 2022 habe ich mich dazu entschlossen\, professionell als spiritueller Lebensberater und Kartenleger zu arbeiten. Die Spiritualität begleitet mich schon lange in meinem Leben. Mit neun Jahren spürte ich eine besondere Anziehung zum Kartenlegen. Die Karten sprachen zu mir. Und meist nach kurzer Zeit trafen meine Prophezeiungen ein\, die ich im Kartenbild sehen konnte. Irgendwann wollte ich nicht mehr nur für meine Freunde und Familie die Karten legen\, sondern für alle Menschen da draußen. Wünschst du dir eine klare\, lösungsorientierte und herzliche Beratung? Ich bin für dich da! In meiner Beratung zeige ich dir Wege\, die dich zum Glück führen. Gemeinsam schauen wir uns deine Vergangenheit\, Gegenwart und Zukunft genau an und entdecken\, wie sich Themen entwickeln werden. \nMelde dich sehr gerne bei mir! \nExterne Links:\nBeratung mit Colin Sperk\nwww.colin-sperk.de
URL:https://tarotlive.de/programm/colin-sperk-11/
LOCATION:Colin Sperk
ATTACH;FMTTYPE=image/jpeg:https://tarotlive.de/wp-content/uploads/2025/03/d0a3c69e9e6f9818b08f48ad73937eda-avatar-list-11.jpg
END:VEVENT
BEGIN:VEVENT
DTSTART;TZID=UTC:20250509T190000
DTEND;TZID=UTC:20250509T200000
DTSTAMP:20260420T101056
CREATED:20250429T193717Z
LAST-MODIFIED:20250429T193727Z
UID:448-1746817200-1746820800@tarotlive.de
SUMMARY:Colin Sperk
DESCRIPTION:Im Jahr 2022 habe ich mich dazu entschlossen\, professionell als spiritueller Lebensberater und Kartenleger zu arbeiten. Die Spiritualität begleitet mich schon lange in meinem Leben. Mit neun Jahren spürte ich eine besondere Anziehung zum Kartenlegen. Die Karten sprachen zu mir. Und meist nach kurzer Zeit trafen meine Prophezeiungen ein\, die ich im Kartenbild sehen konnte. Irgendwann wollte ich nicht mehr nur für meine Freunde und Familie die Karten legen\, sondern für alle Menschen da draußen. Wünschst du dir eine klare\, lösungsorientierte und herzliche Beratung? Ich bin für dich da! In meiner Beratung zeige ich dir Wege\, die dich zum Glück führen. Gemeinsam schauen wir uns deine Vergangenheit\, Gegenwart und Zukunft genau an und entdecken\, wie sich Themen entwickeln werden. \nMelde dich sehr gerne bei mir! \nExterne Links:\nBeratung mit Colin Sperk\nwww.colin-sperk.de
URL:https://tarotlive.de/programm/colin-sperk-8/
LOCATION:Colin Sperk
ATTACH;FMTTYPE=image/jpeg:https://tarotlive.de/wp-content/uploads/2025/03/d0a3c69e9e6f9818b08f48ad73937eda-avatar-list-11.jpg
END:VEVENT
BEGIN:VEVENT
DTSTART;TZID=UTC:20250415T190000
DTEND;TZID=UTC:20250415T200000
DTSTAMP:20260420T101056
CREATED:20250414T210817Z
LAST-MODIFIED:20250414T210817Z
UID:428-1744743600-1744747200@tarotlive.de
SUMMARY:Colin Sperk
DESCRIPTION:Im Jahr 2022 habe ich mich dazu entschlossen\, professionell als spiritueller Lebensberater und Kartenleger zu arbeiten. Die Spiritualität begleitet mich schon lange in meinem Leben. Mit neun Jahren spürte ich eine besondere Anziehung zum Kartenlegen. Die Karten sprachen zu mir. Und meist nach kurzer Zeit trafen meine Prophezeiungen ein\, die ich im Kartenbild sehen konnte. Irgendwann wollte ich nicht mehr nur für meine Freunde und Familie die Karten legen\, sondern für alle Menschen da draußen. Wünschst du dir eine klare\, lösungsorientierte und herzliche Beratung? Ich bin für dich da! In meiner Beratung zeige ich dir Wege\, die dich zum Glück führen. Gemeinsam schauen wir uns deine Vergangenheit\, Gegenwart und Zukunft genau an und entdecken\, wie sich Themen entwickeln werden. \nMelde dich sehr gerne bei mir! \nExterne Links:\nBeratung mit Colin Sperk\nwww.colin-sperk.de
URL:https://tarotlive.de/programm/colin-sperk-7/
LOCATION:Colin Sperk
ATTACH;FMTTYPE=image/jpeg:https://tarotlive.de/wp-content/uploads/2025/03/d0a3c69e9e6f9818b08f48ad73937eda-avatar-list-11.jpg
END:VEVENT
BEGIN:VEVENT
DTSTART;TZID=UTC:20250413T190000
DTEND;TZID=UTC:20250413T200000
DTSTAMP:20260420T101056
CREATED:20250327T120434Z
LAST-MODIFIED:20250327T120434Z
UID:345-1744570800-1744574400@tarotlive.de
SUMMARY:Colin Sperk
DESCRIPTION:Im Jahr 2022 habe ich mich dazu entschlossen\, professionell als spiritueller Lebensberater und Kartenleger zu arbeiten. Die Spiritualität begleitet mich schon lange in meinem Leben. Mit neun Jahren spürte ich eine besondere Anziehung zum Kartenlegen. Die Karten sprachen zu mir. Und meist nach kurzer Zeit trafen meine Prophezeiungen ein\, die ich im Kartenbild sehen konnte. Irgendwann wollte ich nicht mehr nur für meine Freunde und Familie die Karten legen\, sondern für alle Menschen da draußen. Wünschst du dir eine klare\, lösungsorientierte und herzliche Beratung? Ich bin für dich da! In meiner Beratung zeige ich dir Wege\, die dich zum Glück führen. Gemeinsam schauen wir uns deine Vergangenheit\, Gegenwart und Zukunft genau an und entdecken\, wie sich Themen entwickeln werden. \nMelde dich sehr gerne bei mir! \nExterne Links:\nBeratung mit Colin Sperk\nwww.colin-sperk.de
URL:https://tarotlive.de/programm/colin-sperk-6/
ATTACH;FMTTYPE=image/jpeg:https://tarotlive.de/wp-content/uploads/2025/03/d0a3c69e9e6f9818b08f48ad73937eda-avatar-list-11.jpg
END:VEVENT
END:VCALENDAR